BEGIN:VCALENDAR
VERSION:2.0
PRODID:-//Lake Guntersville Chamber - ECPv6.15.17//NONSGML v1.0//EN
CALSCALE:GREGORIAN
METHOD:PUBLISH
X-ORIGINAL-URL:https://www.lakeguntersville.org
X-WR-CALDESC:Events for Lake Guntersville Chamber
REFRESH-INTERVAL;VALUE=DURATION:PT1H
X-Robots-Tag:noindex
X-PUBLISHED-TTL:PT1H
BEGIN:VTIMEZONE
TZID:UTC
BEGIN:STANDARD
TZOFFSETFROM:+0000
TZOFFSETTO:+0000
TZNAME:UTC
DTSTART:20250101T000000
END:STANDARD
END:VTIMEZONE
BEGIN:VEVENT
DTSTART;TZID=UTC:20260422T113000
DTEND;TZID=UTC:20260422T130000
DTSTAMP:20260419T181429
CREATED:20260129T192826Z
LAST-MODIFIED:20260331T194250Z
UID:44093-1776857400-1776862800@www.lakeguntersville.org
SUMMARY:Administrative Professionals Day - Lake Guntersville Chamber of Commerce
DESCRIPTION:Administrative Professionals Day – Lake Guntersville Chamber of Commerce \nDATE: Wednesday\, April 22 \nTIME: 11:30 AM – 1:00 PM \nLOCATION: Gunter’s Landing Clubhouse – 1000 Gunter’s Landing Rd \nDETAILS: Tickets are now available for this fan favorite event! $40 includes lunch by Gunter’s Landing\, a Comfort Colors t-shirt\, goody bag\, and program. This year\, we will play Bingo! Call 256-582-3612 or email ansley@lakeguntersville.org for details. \nThank You to our Presenting Sponsor Wilks Tire & Battery Service! \n 
URL:https://www.lakeguntersville.org/event/administrative-professionals-day/
LOCATION:Gunter’s Landing\, 1000 Gunter's Landing Road\, Guntersville\, AL
END:VEVENT
BEGIN:VEVENT
DTSTART;TZID=UTC:20260501T100000
DTEND;TZID=UTC:20260501T130000
DTSTAMP:20260419T181429
CREATED:20260129T193138Z
LAST-MODIFIED:20260410T154100Z
UID:44096-1777629600-1777640400@www.lakeguntersville.org
SUMMARY:Spring Shred Day - Lake Guntersville Chamber of Commerce
DESCRIPTION:Spring Shred Day & Expired Drug Take Back – Lake Guntersville Chamber of Commerce \nDATE: Friday\, May 1 \nTIME: 10:00 AM – 1:00 PM \nLOCATION: Chamber Parking Lot – 200 Gunter Ave \nDETAILS: This free service is brought to you by Presenting Sponsor: Lake Guntersville Insurance Agency and Gold Sponsors: Anonymous\, Randy Jones & Associates\, and WebMax Marketing! \nEach person may bring up to three banker boxes or garbage bags of papers to be shredded. Please remove binders\, binder clips\, and large items that may damage the shredders. \nBring any expired or unused medications to be collected by the Marshall County Sheriff’s Office on-site. \n 
URL:https://www.lakeguntersville.org/event/spring-shred-day-lake-guntersville-chamber-of-commerce-2/
LOCATION:Lake Guntersville Chamber of Commerce\, 200 Gunter Avenue\, Guntersville\, AL\, 35976
END:VEVENT
BEGIN:VEVENT
DTSTART;TZID=UTC:20261212T170000
DTEND;TZID=UTC:20261212T180000
DTSTAMP:20260419T181429
CREATED:20251230T231924Z
LAST-MODIFIED:20260217T170006Z
UID:43791-1797094800-1797098400@www.lakeguntersville.org
SUMMARY:2026 Guntersville Christmas Parade - Save the Date!
DESCRIPTION:2026 Christmas Parade \nDATE: Saturday\, December 12 \nTIME: 5:00 PM \nLOCATION: through downtown Guntersville\, starts at the intersection of Scott St and Gunter Ave \nDETAILS: More details to come!
URL:https://www.lakeguntersville.org/event/2026-guntersville-christmas-parade-save-the-date/
LOCATION:AL
END:VEVENT
END:VCALENDAR