BEGIN:VCALENDAR
VERSION:2.0
PRODID:-//Lake Guntersville Chamber - ECPv6.15.17//NONSGML v1.0//EN
CALSCALE:GREGORIAN
METHOD:PUBLISH
X-WR-CALNAME:Lake Guntersville Chamber
X-ORIGINAL-URL:https://www.lakeguntersville.org
X-WR-CALDESC:Events for Lake Guntersville Chamber
REFRESH-INTERVAL;VALUE=DURATION:PT1H
X-Robots-Tag:noindex
X-PUBLISHED-TTL:PT1H
BEGIN:VTIMEZONE
TZID:UTC
BEGIN:STANDARD
TZOFFSETFROM:+0000
TZOFFSETTO:+0000
TZNAME:UTC
DTSTART:20250101T000000
END:STANDARD
END:VTIMEZONE
BEGIN:VEVENT
DTSTART;TZID=UTC:20260326T170000
DTEND;TZID=UTC:20260326T190000
DTSTAMP:20260419T195100
CREATED:20251216T174809Z
LAST-MODIFIED:20260216T204804Z
UID:43515-1774544400-1774551600@www.lakeguntersville.org
SUMMARY:Business After Hours with Guntersville Museum
DESCRIPTION:HOST: Guntersville Museum\nDATE: Thursday\, March 26\nTIME: 5:00 – 7:00 pm\nLOCATION: Guntersville Museum – 1215 Rayburn Ave\nDETAILS: Calling all current and prospective Chamber members! Join us anytime between 5:00pm – 7:00 pm for networking\, fun\, prizes\, and more. We will open the floor around 6pm for announcements and giveaways. Don’t forget your business cards! \nQuestions about this event? Don’t hesitate to reach out to us! 256-582-3612 or ansley@lakeguntersville.org. \nRSVP HERE!
URL:https://www.lakeguntersville.org/event/business-after-hours-with-guntersville-museum/
LOCATION:Guntersville Museum\, 1215 Rayburn Avenue\, Guntersville\, AL\, 35976
END:VEVENT
END:VCALENDAR