BEGIN:VCALENDAR
VERSION:2.0
PRODID:-//Lake Guntersville Chamber - ECPv6.15.17//NONSGML v1.0//EN
CALSCALE:GREGORIAN
METHOD:PUBLISH
X-ORIGINAL-URL:https://www.lakeguntersville.org
X-WR-CALDESC:Events for Lake Guntersville Chamber
REFRESH-INTERVAL;VALUE=DURATION:PT1H
X-Robots-Tag:noindex
X-PUBLISHED-TTL:PT1H
BEGIN:VTIMEZONE
TZID:UTC
BEGIN:STANDARD
TZOFFSETFROM:+0000
TZOFFSETTO:+0000
TZNAME:UTC
DTSTART:20250101T000000
END:STANDARD
END:VTIMEZONE
BEGIN:VEVENT
DTSTART;TZID=UTC:20260310T110000
DTEND;TZID=UTC:20260310T113000
DTSTAMP:20260419T195246
CREATED:20260122T153123Z
LAST-MODIFIED:20260216T204707Z
UID:43942-1773140400-1773142200@www.lakeguntersville.org
SUMMARY:Home Place Thrift Shoppe Ribbon Cutting
DESCRIPTION:Home Place Thrift Shoppe Ribbon Cutting\nDATE: Tuesday\, March 10\nTIME: 11:00 am\nLOCATION: Home Place Thrift Shoppe’s NEW LOCATION – 1221 Blount Ave\, Guntersville\nDETAILS: The more\, the merrier! Invite your friends to join us as we celebrate the NEW LOCATION with a ribbon cutting ceremony. \n 
URL:https://www.lakeguntersville.org/event/home-place-thrift-shoppe-ribbon-cutting/
LOCATION:Home Place Thrift Store\, 1221 Blount Ave\, Guntersville\, AL\, 35976\, United States
END:VEVENT
END:VCALENDAR