BEGIN:VCALENDAR
VERSION:2.0
PRODID:-//Lake Guntersville Chamber - ECPv6.15.17//NONSGML v1.0//EN
CALSCALE:GREGORIAN
METHOD:PUBLISH
X-ORIGINAL-URL:https://www.lakeguntersville.org
X-WR-CALDESC:Events for Lake Guntersville Chamber
REFRESH-INTERVAL;VALUE=DURATION:PT1H
X-Robots-Tag:noindex
X-PUBLISHED-TTL:PT1H
BEGIN:VTIMEZONE
TZID:UTC
BEGIN:STANDARD
TZOFFSETFROM:+0000
TZOFFSETTO:+0000
TZNAME:UTC
DTSTART:20250101T000000
END:STANDARD
END:VTIMEZONE
BEGIN:VEVENT
DTSTART;TZID=UTC:20260217T170000
DTEND;TZID=UTC:20260217T190000
DTSTAMP:20260419T213253
CREATED:20251208T215350Z
LAST-MODIFIED:20260216T204219Z
UID:43483-1771347600-1771354800@www.lakeguntersville.org
SUMMARY:Business After Hours with Total Dental Care
DESCRIPTION:Business After Hours with Total Dental Care \nDATE: Tuesday\, February 17 \nTIME: 5:00 – 7:00 PM \nLOCATION: Total Dental Care – 1724 Gunter Ave\, Ste A\, Guntersville \nDETAILS: Join us for food\, networking\, door prizes\, and more! We will be celebrating Fat Tuesday style\, so you will not want to miss this. Open to all current and perspective Chamber members. Free to attend\, RSVP required. \nRSVP HERE
URL:https://www.lakeguntersville.org/event/business-after-hours-with-total-dental-care/
LOCATION:Total Dental Care\, 1724 Gunter Ave\, Guntersville\, AL\, 35976\, United States
END:VEVENT
END:VCALENDAR