BEGIN:VCALENDAR
VERSION:2.0
PRODID:-//Lake Guntersville Chamber - ECPv6.15.17//NONSGML v1.0//EN
CALSCALE:GREGORIAN
METHOD:PUBLISH
X-ORIGINAL-URL:https://www.lakeguntersville.org
X-WR-CALDESC:Events for Lake Guntersville Chamber
REFRESH-INTERVAL;VALUE=DURATION:PT1H
X-Robots-Tag:noindex
X-PUBLISHED-TTL:PT1H
BEGIN:VTIMEZONE
TZID:UTC
BEGIN:STANDARD
TZOFFSETFROM:+0000
TZOFFSETTO:+0000
TZNAME:UTC
DTSTART:20210101T000000
END:STANDARD
END:VTIMEZONE
BEGIN:VEVENT
DTSTART;TZID=UTC:20220412T100000
DTEND;TZID=UTC:20220412T103000
DTSTAMP:20260421T124117
CREATED:20220406T151020Z
LAST-MODIFIED:20220406T151020Z
UID:23906-1649757600-1649759400@www.lakeguntersville.org
SUMMARY:Ribbon Cutting celebrating JD's Grill!
DESCRIPTION:Join us as we celebrate the grand opening of JD’s Grill\, Guntersville’s new seafood and steakhouse! Conveniently located next to Guntersville AT&T and the Hampton Inn. Coming up Tuesday\, April 12 at 10:00 am. The more the merrier – we hope to see you there!
URL:https://www.lakeguntersville.org/event/ribbon-cutting-celebrating-jds-grill-2-3/
LOCATION:AL
END:VEVENT
BEGIN:VEVENT
DTSTART;TZID=UTC:20220414T170000
DTEND;TZID=UTC:20220414T190000
DTSTAMP:20260421T124117
CREATED:20220113T173631Z
LAST-MODIFIED:20220113T173631Z
UID:23571-1649955600-1649962800@www.lakeguntersville.org
SUMMARY:Business After Hours with Superior RV
DESCRIPTION:Superior RV is excited to host the first Business After Hours event of 2022! \nJoin us Thursday\, April 14 between 5 -7 pm \nfor networking and fellowship and to check out their new showroom space. Bring your business cards; we’ll be ready to do some networking! \n21351 US Hwy 431\, Guntersville\, AL 35976
URL:https://www.lakeguntersville.org/event/business-after-hours-with-superior-rv-2-3/
LOCATION:Superior RV\, 21351 US Hwy 431\, Guntersville\, AL\, 35976\, United States
END:VEVENT
BEGIN:VEVENT
DTSTART;TZID=UTC:20220419T073000
DTEND;TZID=UTC:20220419T073000
DTSTAMP:20260421T124117
CREATED:20220308T153929Z
LAST-MODIFIED:20220308T153929Z
UID:23360-1650353400-1650353400@www.lakeguntersville.org
SUMMARY:Good Morning Guntersville at Citizens Bank & Trust
DESCRIPTION:Good Morning Guntersville \nTuesday\, April 19\, 7:30 AM \nCitizens Bank & Trust \n711 Gunter Avenue\, Guntersville
URL:https://www.lakeguntersville.org/event/good-morning-guntersville-at-citizens-bank-trust/
LOCATION:Citizens Bank & Trust\, 711 Gunter Avenue\, Guntersville\, AL\, 35976\, United States
END:VEVENT
BEGIN:VEVENT
DTSTART;TZID=UTC:20220423T100000
DTEND;TZID=UTC:20220424T170000
DTSTAMP:20260421T124117
CREATED:20220131T171830Z
LAST-MODIFIED:20220131T171830Z
UID:23664-1650708000-1650819600@www.lakeguntersville.org
SUMMARY:Art on the Lake 2022
DESCRIPTION: 61st Annual Art on the Lake\nApril 23 & 24\, 2022\n\n\nHeld alongside beautiful Lake Guntersville\, this event showcases fine artists and craftsmen from throughout the southeast and beyond. \nIn addition\, there are food vendors\, outdoor games and rides\, and a bake shop…FUN for the entire family! \nSaturday 10 AM -5 PM; Sunday 10 AM-4 PM \nAdmission is $2 for ages 13 and older \nRAIN OR SHINE \nVisit this website to access applications: https://www.artonthelake-guntersville.com/interiors \nSponsored by the Twenty-First Century Club of Guntersville\, Art on the Lake promotes the arts while benefiting a scholarship program for local high school graduates.
URL:https://www.lakeguntersville.org/event/art-on-the-lake-2022-2-3/
LOCATION:AL
END:VEVENT
BEGIN:VEVENT
DTSTART;TZID=UTC:20220423T150000
DTEND;TZID=UTC:20220423T190000
DTSTAMP:20260421T124117
CREATED:20220401T135803Z
LAST-MODIFIED:20220401T135803Z
UID:23874-1650726000-1650740400@www.lakeguntersville.org
SUMMARY:Grand Opening Celebration at The Grove Grotto & Spa
DESCRIPTION:The Grove Grotto & Spa is excited to invite you to the upcoming Grand Opening Celebration! Featuring a crawfish boil by Crawmama’s\, a live band\, & huge giveaways\, including swag bags to the first 50 attendees. Coming up April 23 from 3:00 – 7:00 pm. \nFollow the Grove Grotto & Spa on facebook for more updates: https://www.facebook.com/thegrovegrottoandspa
URL:https://www.lakeguntersville.org/event/grand-opening-celebration-at-the-grove-grotto-spa-2-3/
LOCATION:The Grove Grotto & Spa\, 8344 Pleasant Grove Road\, Albertville\, AL\, 35976\, United States
END:VEVENT
BEGIN:VEVENT
DTSTART;TZID=UTC:20220427T113000
DTEND;TZID=UTC:20220427T130000
DTSTAMP:20260421T124117
CREATED:20220308T150332Z
LAST-MODIFIED:20220308T150332Z
UID:23732-1651059000-1651064400@www.lakeguntersville.org
SUMMARY:Administrative Professionals Day Luncheon
DESCRIPTION:Administrative Professionals Day Luncheon \nWednesday\, April 27th\, 11:30AM \nTickets are $30. Registration is now open – please call 256-582-3612 to register today. \nHeld at Gunter’s Landing \n \nSpecial thanks to Presenting Sponsor\, Factory Connection!
URL:https://www.lakeguntersville.org/event/administrative-professionals-day-luncheon-3/
LOCATION:Gunter’s Landing Golf Club\, 1000 Gunter's Landing Rd.\, Guntersville\, AL\, 35976\, United States
END:VEVENT
BEGIN:VEVENT
DTSTART;TZID=UTC:20220428T110000
DTEND;TZID=UTC:20220428T113000
DTSTAMP:20260421T124117
CREATED:20220427T152655Z
LAST-MODIFIED:20220427T152655Z
UID:23965-1651143600-1651145400@www.lakeguntersville.org
SUMMARY:Barreto's Outdoor Kitchen Ribbon Cutting
DESCRIPTION:Make plans to join us as we celebrate Guntersville new Puerto Rican Food Truck\, Barreto’s Outdoor Kitchen\, with a ribbon cutting ceremony!\nThey will be parked in the lot adjacent to City Harbor on Blount Avenue. We will celebrate by cutting the big red ribbon (provided by Rodney’s Flower Shop).\nWe hope to see you Thursday\, April 28 at 11:00 am!
URL:https://www.lakeguntersville.org/event/barretos-outdoor-kitchen-ribbon-cutting-3/
LOCATION:AL
END:VEVENT
END:VCALENDAR