BEGIN:VCALENDAR
VERSION:2.0
PRODID:-//Lake Guntersville Chamber - ECPv6.15.17//NONSGML v1.0//EN
CALSCALE:GREGORIAN
METHOD:PUBLISH
X-WR-CALNAME:Lake Guntersville Chamber
X-ORIGINAL-URL:https://www.lakeguntersville.org
X-WR-CALDESC:Events for Lake Guntersville Chamber
REFRESH-INTERVAL;VALUE=DURATION:PT1H
X-Robots-Tag:noindex
X-PUBLISHED-TTL:PT1H
BEGIN:VTIMEZONE
TZID:UTC
BEGIN:STANDARD
TZOFFSETFROM:+0000
TZOFFSETTO:+0000
TZNAME:UTC
DTSTART:20210101T000000
END:STANDARD
END:VTIMEZONE
BEGIN:VEVENT
DTSTART;TZID=UTC:20220131T090000
DTEND;TZID=UTC:20220131T160000
DTSTAMP:20260421T094652
CREATED:20220106T162429Z
LAST-MODIFIED:20220106T162429Z
UID:23496-1643619600-1643644800@www.lakeguntersville.org
SUMMARY:Clover Flex Demo at Citizens Bank & Trust
DESCRIPTION:It’s a new year to maximize your business possibilities. So we’re packing\nup our Clover solutions and taking them on the road to you.\nJoin us for hands-on demos and expert advice on how to set your business up for success.\nJanuary 31\, 9:00 am – 4:00 pm at Citizens Bank and Trust\n711 Gunter Avenue\, Guntersville\, AL 35976 \nContact Dana McKean\, Business Consultant to make an appointment:\n256-565-7477 | dana.mckean@fiserv.com\ncalendy.com/danamckean\nDon’t wait\, tour stop appointments fill up quickly! \nClover.Citizens
URL:https://www.lakeguntersville.org/event/clover-flex-demo-at-citizens-bank-trust-2-3/
LOCATION:AL
END:VEVENT
END:VCALENDAR