BEGIN:VCALENDAR
VERSION:2.0
PRODID:-//Lake Guntersville Chamber - ECPv6.15.17//NONSGML v1.0//EN
CALSCALE:GREGORIAN
METHOD:PUBLISH
X-WR-CALNAME:Lake Guntersville Chamber
X-ORIGINAL-URL:https://www.lakeguntersville.org
X-WR-CALDESC:Events for Lake Guntersville Chamber
REFRESH-INTERVAL;VALUE=DURATION:PT1H
X-Robots-Tag:noindex
X-PUBLISHED-TTL:PT1H
BEGIN:VTIMEZONE
TZID:UTC
BEGIN:STANDARD
TZOFFSETFROM:+0000
TZOFFSETTO:+0000
TZNAME:UTC
DTSTART:20250101T000000
END:STANDARD
END:VTIMEZONE
BEGIN:VEVENT
DTSTART;VALUE=DATE:20260417
DTEND;VALUE=DATE:20260427
DTSTAMP:20260425T030824
CREATED:20250714T201716Z
LAST-MODIFIED:20260417T201137Z
UID:42418-1776384000-1777247999@www.lakeguntersville.org
SUMMARY:Cat on A Hot Tin Roof - The Whole Backstage Theatre
DESCRIPTION:Cat on A Hot Tin Roof – The Whole Backstage Theatre \nDATE: April 17-26\, 2026 \nTIME: evening shows at 7:00 pm; Sunday matinees at 2:00 pm \nLOCATION: The Whole Backstage Theatre – 1120 Rayburn Ave\, Guntersville\, AL \nDETAILS: Performances run April 17–26 at The Whole Backstage Theatre. Tickets are available now at www.wholebackstage.com or by calling 256-582-7469! \nCheck our FACEBOOK.
URL:https://www.lakeguntersville.org/event/cat-on-a-hot-tin-roof-the-whole-backstage-theatre/
LOCATION:The Whole Backstage Theatre\, 1120 Rayburn Avenue\, Guntersville\, AL\, 35976\, United States
ORGANIZER;CN="The Whole Backstage Theatre":MAILTO:office@wholebackstage.com
END:VEVENT
BEGIN:VEVENT
DTSTART;TZID=UTC:20260425T073000
DTEND;TZID=UTC:20260425T130000
DTSTAMP:20260425T030824
CREATED:20260406T163512Z
LAST-MODIFIED:20260406T163512Z
UID:44703-1777102200-1777122000@www.lakeguntersville.org
SUMMARY:3rd Annual Hike - Jubilee Family Chiropractic
DESCRIPTION:3rd Annual Hike – Jubilee Family Chiropractic\nDATE: Saturday\, April 25\nTIME: 7:30 am\nLOCATION: Lake Guntersville State Park\, Terrell & King’s Chapel Trail Loop\nDETAILS:  Go on a date with nature  \n\nWe encourage you to bring a loved one\, your spouse\, or even the whole family to this special event!\n\n\n\n\n\nSimply show up to be entered into our giveaway — one lucky winner will receive a gift card to a local restaurant\, so your day doesn’t stop with the hike! \n\n\nSnacks and water will be provided for all participants\, and we would absolutely love for you to join us!\n\n 
URL:https://www.lakeguntersville.org/event/3rd-annual-hike-jubilee-family-chiropractic/
LOCATION:Lake Guntersville State Park\, 7966 HWY 227\, Guntersville
END:VEVENT
BEGIN:VEVENT
DTSTART;TZID=UTC:20260425T080000
DTEND;TZID=UTC:20260426T170000
DTSTAMP:20260425T030824
CREATED:20260122T163731Z
LAST-MODIFIED:20260122T163731Z
UID:43964-1777104000-1777222800@www.lakeguntersville.org
SUMMARY:Learn to Sail Class - Browns Creek Sailing Association
DESCRIPTION:Learn to Sail Class – Browns Creek Sailing Association\nDATE: Saturday\, April 25 and Sunday\, April 26\nTIME: TBA\nLOCATION: Browns Creek Sailing Association\, 100 Browns Creek Rd\nDETAILS: More details on the way!
URL:https://www.lakeguntersville.org/event/learn-to-sail-class-browns-creek-sailing-association/
LOCATION:AL
END:VEVENT
BEGIN:VEVENT
DTSTART;TZID=UTC:20260425T090000
DTEND;TZID=UTC:20260425T170000
DTSTAMP:20260425T030824
CREATED:20260320T163809Z
LAST-MODIFIED:20260320T163809Z
UID:44590-1777107600-1777136400@www.lakeguntersville.org
SUMMARY:Open House - Freedom Boat Club
DESCRIPTION:Open House – Freedom Boat Club \nDATE: Saturday\, April 25 \nTIME: 9:00 AM – 5:00 PM \nLOCATION: Freedom Boat Club\, City Harbor \nDETAILS: Join us for our Open House! Ask questions\, meet the team\, tour the boats\, and take some short rides to see how they run. Call 256-202-5483 with any questions.
URL:https://www.lakeguntersville.org/event/open-house-freedom-boat-club-6/
LOCATION:Freedom Boat Club of North Alabama\, Paddle Wheel Drive\, Guntersville\, AL\, 35976\, United States
ORGANIZER;CN="Freedom Boat Club of North Alabama":MAILTO:rasah.gonzales@freedomboatclub.com
END:VEVENT
BEGIN:VEVENT
DTSTART;TZID=UTC:20260425T090000
DTEND;TZID=UTC:20260426T170000
DTSTAMP:20260425T030824
CREATED:20260421T140802Z
LAST-MODIFIED:20260421T140802Z
UID:44818-1777107600-1777222800@www.lakeguntersville.org
SUMMARY:27th Annual Pow Wow - United Cherokee AniYunWiya Nation
DESCRIPTION:27th Annual Pow Wow – United Cherokee AniYunWiya Nation\nDATE: April 25-26\nTIME: 9:00 am – 5:00 pm\, Grand Entry at noon\nLOCATION: 221 Pleasant Hill Rd\, Guntersville\nDETAILS: Enjoy drumming\, dancing and singing; native craft vendors; storytellers; tomahawk throwing; special guest author Cabot Barden; Special Mayan Dance Performance by Pedro Juan Manuel; and much more! For details\, call 256-582-2333 \n 
URL:https://www.lakeguntersville.org/event/27th-annual-pow-wow-united-cherokee-aniyunwiya-nation/
LOCATION:United Cherokee AniYunWiYa Nation Tribal Land\, 221 Pleasant Hill Road\, Guntersville\, AL\, 35976\, United States
END:VEVENT
BEGIN:VEVENT
DTSTART;TZID=UTC:20260425T103000
DTEND;TZID=UTC:20260425T120000
DTSTAMP:20260425T030824
CREATED:20260407T211339Z
LAST-MODIFIED:20260407T211339Z
UID:44726-1777113000-1777118400@www.lakeguntersville.org
SUMMARY:Kids Tile Coaster Workshop - Mountain Valley Arts Council
DESCRIPTION:Kids Tile Coaster Workshop – Mountain Valley Arts Council\nDATE: Saturday\, April 25\nTIME: 10:30 am – 11:45am\nLOCATION: MVAC Gallery\, 440 Gunter Ave\nDETAILS: Free with advance registration. Call 256-571-7199 for details. \n 
URL:https://www.lakeguntersville.org/event/kids-tile-coaster-workshop-mountain-valley-arts-council/
LOCATION:Mountain Valley Arts Council Gallery\, 440 Gunter Avenue\, Guntersville\, AL\, 35976\, United States
END:VEVENT
BEGIN:VEVENT
DTSTART;TZID=UTC:20260425T140000
DTEND;TZID=UTC:20260502T150000
DTSTAMP:20260425T030824
CREATED:20260420T203525Z
LAST-MODIFIED:20260420T203525Z
UID:44813-1777125600-1777734000@www.lakeguntersville.org
SUMMARY:Spring Plant Sale - Guntersville Middle School
DESCRIPTION:Spring Plant Sale – Guntersville Middle School \nDATE: April 25 – May 2\nTIME: 2:00 pm\nLOCATION: GMS Greenhouse\, 901 Sunset Dr\nDETAILS: Join us for the inaugural GMS Greenhouse Spring Plant Sale! \nCome out and support the students of Guntersville Middle School Agriscience as we proudly offer a beautiful selection of plants that have been started and grown by our students right here at GMS — not bought and resold.\nWe’ll have a great variety available\, including:\n 10” & 12” flowering hanging baskets 10” & 12” Boston and Macho ferns Bedding plants Vegetable plants Cedar planters\n\nThis sale is more than just plants — it’s a chance to support student learning\, leadership\, and hands-on agricultural education. Every purchase helps grow our program and gives our students real-world experience in greenhouse production\, marketing\, and sales.\n\nBring your family\, tell your friends\, and come shop local while supporting a great cause. We can’t wait to see you at the greenhouse!\n 
URL:https://www.lakeguntersville.org/event/spring-plant-sale-guntersville-middle-school/
LOCATION:Guntersville Middle School\, 901 Sunset Drive\, Guntersville\, AL\, 35976\, United States
END:VEVENT
BEGIN:VEVENT
DTSTART;TZID=UTC:20260425T180000
DTEND;TZID=UTC:20260425T203000
DTSTAMP:20260425T030824
CREATED:20260210T153121Z
LAST-MODIFIED:20260210T153151Z
UID:44250-1777140000-1777149000@www.lakeguntersville.org
SUMMARY:10th Annual Denim & Diamonds - Kids to Love
DESCRIPTION:Denim & Diamonds – Kids to Love\nDATE: Saturday\, April 25\nTIME: 6:00 pm\nLOCATION: The Jackson Center\, 6001 Moquin Dr NW\, Huntsville\nDETAILS: Featuring live music by Mark Wills. Every ticket helps support children in foster care. \nPURCHASE TICKETS HERE
URL:https://www.lakeguntersville.org/event/10th-annual-denim-diamonds-kids-to-love/
LOCATION:AL
END:VEVENT
END:VCALENDAR