BEGIN:VCALENDAR
VERSION:2.0
PRODID:-//Lake Guntersville Chamber - ECPv6.15.17//NONSGML v1.0//EN
CALSCALE:GREGORIAN
METHOD:PUBLISH
X-WR-CALNAME:Lake Guntersville Chamber
X-ORIGINAL-URL:https://www.lakeguntersville.org
X-WR-CALDESC:Events for Lake Guntersville Chamber
REFRESH-INTERVAL;VALUE=DURATION:PT1H
X-Robots-Tag:noindex
X-PUBLISHED-TTL:PT1H
BEGIN:VTIMEZONE
TZID:UTC
BEGIN:STANDARD
TZOFFSETFROM:+0000
TZOFFSETTO:+0000
TZNAME:UTC
DTSTART:20250101T000000
END:STANDARD
END:VTIMEZONE
BEGIN:VEVENT
DTSTART;VALUE=DATE:20260417
DTEND;VALUE=DATE:20260427
DTSTAMP:20260421T012539
CREATED:20250714T201716Z
LAST-MODIFIED:20260417T201137Z
UID:42418-1776384000-1777247999@www.lakeguntersville.org
SUMMARY:Cat on A Hot Tin Roof - The Whole Backstage Theatre
DESCRIPTION:Cat on A Hot Tin Roof – The Whole Backstage Theatre \nDATE: April 17-26\, 2026 \nTIME: evening shows at 7:00 pm; Sunday matinees at 2:00 pm \nLOCATION: The Whole Backstage Theatre – 1120 Rayburn Ave\, Guntersville\, AL \nDETAILS: Performances run April 17–26 at The Whole Backstage Theatre. Tickets are available now at www.wholebackstage.com or by calling 256-582-7469! \nCheck our FACEBOOK.
URL:https://www.lakeguntersville.org/event/cat-on-a-hot-tin-roof-the-whole-backstage-theatre/
LOCATION:The Whole Backstage Theatre\, 1120 Rayburn Avenue\, Guntersville\, AL\, 35976\, United States
ORGANIZER;CN="The Whole Backstage Theatre":MAILTO:office@wholebackstage.com
END:VEVENT
BEGIN:VEVENT
DTSTART;TZID=UTC:20260421T110000
DTEND;TZID=UTC:20260421T170000
DTSTAMP:20260421T012539
CREATED:20260331T191027Z
LAST-MODIFIED:20260331T191027Z
UID:44636-1776769200-1776790800@www.lakeguntersville.org
SUMMARY:Golf Tournament - Marshall County Home Builders Association
DESCRIPTION:Golf Tournament – Marshall County Home Builders Association\nDATE: Tuesday\, April 21\nTIME: 11:00 am lunch; 12:00 pm Tee Off\nLOCATION: Gunter’s Landing Golf Course\nDETAILS: 4 person scramble. $500 per 4-man team. Call 256-891-7061 or email marshallchba@gmail.com to register \n \n 
URL:https://www.lakeguntersville.org/event/golf-tournament-marshall-county-home-builders-association/
LOCATION:Gunter’s Landing Golf Club\, 1000 Gunter's Landing Rd.\, Guntersville\, AL\, 35976\, United States
ORGANIZER;CN="MC Home Builders Association":MAILTO:marshallchba@gmail.com
END:VEVENT
BEGIN:VEVENT
DTSTART;TZID=UTC:20260421T120000
DTEND;TZID=UTC:20260421T133000
DTSTAMP:20260421T012539
CREATED:20260420T191242Z
LAST-MODIFIED:20260420T191242Z
UID:44810-1776772800-1776778200@www.lakeguntersville.org
SUMMARY:Price is NOT the Only Lever Seminar - Element Mortgage
DESCRIPTION:Price is NOT the Only Lever Seminar – Element Mortgage\nDATE: Tuesday\, April 21\nTIME: 12:00 pm\nLOCATION: Papa Dubi’s\, Albertville\nDETAILS: Join us for this in person event and discover the strategies and creative financing approaches that can help you win more listings and close more buyers. \nReserve Your Seat Before the Room Fills! (limited to 25) \n 
URL:https://www.lakeguntersville.org/event/price-is-not-the-only-lever-seminar-element-mortgage/
LOCATION:AL
ORGANIZER;CN="Element Mortgage":MAILTO:adam.hammond@elementmortgage.com
END:VEVENT
BEGIN:VEVENT
DTSTART;TZID=UTC:20260421T150000
DTEND;TZID=UTC:20260421T153000
DTSTAMP:20260421T012539
CREATED:20260223T204427Z
LAST-MODIFIED:20260407T192533Z
UID:44414-1776783600-1776785400@www.lakeguntersville.org
SUMMARY:Sand Mountain Surface Ribbon Cutting
DESCRIPTION:Sand Mountain Surface Ribbon Cutting\nDATE: Tuesday\, April 21\nTIME: 3:00 pm\nLOCATION: Sand Mountain Surface\, Conners Island\, 291 Holston Dr\nDETAILS: The more\, the merrier! Share the news and join us as we celebrate Sand Mountain Surface with a ribbon cutting ceremony. Check out their incredible new facility after we cut the big ribbon. \nLearn more about Sand Mountain Surface.
URL:https://www.lakeguntersville.org/event/sand-mountain-surface-ribbon-cutting/
LOCATION:Sand Mountain Surface\, 291 Holston Dr\, Guntersville\, AL\, 35976\, United States
END:VEVENT
BEGIN:VEVENT
DTSTART;TZID=UTC:20260421T173000
DTEND;TZID=UTC:20260421T193000
DTSTAMP:20260421T012539
CREATED:20260416T194814Z
LAST-MODIFIED:20260416T194814Z
UID:44793-1776792600-1776799800@www.lakeguntersville.org
SUMMARY:Mahjong 101 Class - Meadows Lane
DESCRIPTION:Mahjong 101 Class – Meadows Lane\nDATE: Tuesday\, April 21\nTIME: 5:30 – 7:30 pm\nLOCATION: Meadows Lane\, 1329 Gunter Ave\nDETAILS: Buy a ticket for an evening of tiles and togetherness. Join us for an evening playing Mahjong\, while enjoying light bites and refreshments\, good company and an overall delightful night at the shop! Seating is limited for this event! Everything you need will be provided\, just bring yourself! 16 person maximum with 4 seats per table. Invite your friends to come and play the wonderful game of Mahjong! As a special thank you for joining us Mahjong Night guests will receive an exclusive 15% off during the event! \nFACEBOOK EVENT PAGE LINK
URL:https://www.lakeguntersville.org/event/mahjong-101-class-meadows-lane-2/
LOCATION:Meadows Lane\, 1329 Gunter Ave\, Guntersville\, AL\, 35976\, United States
END:VEVENT
END:VCALENDAR