BEGIN:VCALENDAR
VERSION:2.0
PRODID:-//Lake Guntersville Chamber - ECPv6.15.17//NONSGML v1.0//EN
CALSCALE:GREGORIAN
METHOD:PUBLISH
X-ORIGINAL-URL:https://www.lakeguntersville.org
X-WR-CALDESC:Events for Lake Guntersville Chamber
REFRESH-INTERVAL;VALUE=DURATION:PT1H
X-Robots-Tag:noindex
X-PUBLISHED-TTL:PT1H
BEGIN:VTIMEZONE
TZID:UTC
BEGIN:STANDARD
TZOFFSETFROM:+0000
TZOFFSETTO:+0000
TZNAME:UTC
DTSTART:20220101T000000
END:STANDARD
END:VTIMEZONE
BEGIN:VEVENT
DTSTART;VALUE=DATE:20231107
DTEND;VALUE=DATE:20231231
DTSTAMP:20260424T031432
CREATED:20230919T195112Z
LAST-MODIFIED:20230919T195112Z
UID:18549-1699315200-1703980799@www.lakeguntersville.org
SUMMARY:Holiday Art Market & Holiday Cheer Quilts Exhibit\, at MVAC
DESCRIPTION:Holiday Art Market & Holiday Cheer Quilts Exhibit\, at MVAC \nNovember 7th – December 30th \nClosed on Thanksgiving Day\, Christmas Day
URL:https://www.lakeguntersville.org/event/holiday-art-market-holiday-cheer-quilts-exhibit-at-mvac/
LOCATION:Mountain Valley Arts Council Gallery\, 440 Gunter Avenue\, Guntersville\, AL\, 35976\, United States
END:VEVENT
BEGIN:VEVENT
DTSTART;VALUE=DATE:20231116
DTEND;VALUE=DATE:20240101
DTSTAMP:20260424T031432
CREATED:20230804T192116Z
LAST-MODIFIED:20230804T192116Z
UID:28730-1700092800-1704067199@www.lakeguntersville.org
SUMMARY:Festival of Trees at the Guntersville Museum
DESCRIPTION:Annual Festival of Trees at the Guntersville Museum \nNovember 16 – December 31 \n1215 Rayburn Avenue \nTuesday – Friday 10am-4pm \nSaturday & Sunday 1pm-4pm
URL:https://www.lakeguntersville.org/event/festival-of-trees-at-the-guntersville-museum-3-2/
LOCATION:Guntersville Museum\, 1215 Rayburn Avenue\, Guntersville\, AL\, 35976
END:VEVENT
BEGIN:VEVENT
DTSTART;TZID=UTC:20231127T080000
DTEND;TZID=UTC:20231221T163000
DTSTAMP:20260424T031432
CREATED:20231107T150136Z
LAST-MODIFIED:20231114T164003Z
UID:18981-1701072000-1703176200@www.lakeguntersville.org
SUMMARY:Free Holiday Gift Wrapping at the Chamber
DESCRIPTION:November 27 – December 21 Bring gifts purchased in Guntersville (with receipts) \nto Lake Guntersville Chamber of Commerce to be wrapped for FREE during regular business hours! \nThank you to the Presenting Sponsor: Guntersville Chevrolet and Santa’s Helpers!
URL:https://www.lakeguntersville.org/event/free-holiday-gift-wrapping-at-the-chamber/
LOCATION:Lake Guntersville Chamber of Commerce\, 200 Gunter Avenue\, Guntersville\, AL\, 35976
END:VEVENT
BEGIN:VEVENT
DTSTART;TZID=UTC:20231201T070000
DTEND;TZID=UTC:20231202T120000
DTSTAMP:20260424T031432
CREATED:20231122T142007Z
LAST-MODIFIED:20231122T142007Z
UID:19175-1701414000-1701518400@www.lakeguntersville.org
SUMMARY:Indoor Yard Sale\, by Guntersville Lions Club
DESCRIPTION:The Guntersville Lions Club invites you to their upcoming indoor yard sale on Friday and Saturday\, December 1-2. \nTimes: Friday\, Dec 1 – 7am – 4pm\nSaturday\, Dec 2 – 7am – 12pm \nHeld at North Broad Street Church of Christ\, 308 North Broad St\, Albertville
URL:https://www.lakeguntersville.org/event/indoor-yard-sale-by-guntersville-lions-club-5/
LOCATION:AL
ORGANIZER;CN="Guntersville Lions Club":MAILTO:Guntersvillelionclub@gmail.com
END:VEVENT
BEGIN:VEVENT
DTSTART;VALUE=DATE:20231202
DTEND;VALUE=DATE:20240101
DTSTAMP:20260424T031432
CREATED:20231108T213722Z
LAST-MODIFIED:20231108T223601Z
UID:19014-1701475200-1704067199@www.lakeguntersville.org
SUMMARY:Boat Lighting at North Alabama Sailing Marina
DESCRIPTION:North Alabama Sailing Marina will be decorating boats for Christmas again this year! Christmas Lights will be on display for viewing December 2-31\, 2023. \nThe lights can be viewed from the Hwy 69 causeway and on Lake Guntersville near the marina. \nFor inquiries\, please contact: \nNorth Alabama Sailing Marina – 256-486-3311 \n100 Browns Creek Rd. Guntersville\, AL 35976
URL:https://www.lakeguntersville.org/event/boat-lighting-at-north-alabama-sailing-marina/
LOCATION:North Alabama Sailing Marina\, 1000 Browns Creek Rd.\, Guntersville\, AL\, 35976\, United States
END:VEVENT
BEGIN:VEVENT
DTSTART;TZID=UTC:20231202T090000
DTEND;TZID=UTC:20231202T130000
DTSTAMP:20260424T031432
CREATED:20231122T142523Z
LAST-MODIFIED:20231122T142523Z
UID:19179-1701507600-1701522000@www.lakeguntersville.org
SUMMARY:Snowman Ornament Event\, at Guntersville Public Library
DESCRIPTION:
URL:https://www.lakeguntersville.org/event/snowman-ornament-event-at-guntersville-public-library/
LOCATION:Guntersville Public Library\, 1240 O'Brig Avenue\, Guntersville\, AL\, 35976\, United States
END:VEVENT
BEGIN:VEVENT
DTSTART;TZID=UTC:20231202T100000
DTEND;TZID=UTC:20231202T130000
DTSTAMP:20260424T031432
CREATED:20231114T192142Z
LAST-MODIFIED:20231114T192142Z
UID:19127-1701511200-1701522000@www.lakeguntersville.org
SUMMARY:Christmas Open House\, at Jonica's Bakery
DESCRIPTION:Jonica’s Bakery invites you on Saturday\, Dec. 2nd their Jonica’s Bakery Christmas Open House!!\nAND…SANTA IS COMING!\nEnjoy FREE cookie decorating\, ornament making\, and visit with SANTA!\n\n\nSaturday\, December 2nd 10am-1pm\n\n1708 Gunter Avenue\, Guntersville\, AL 35976
URL:https://www.lakeguntersville.org/event/christmas-open-house-at-jonicas-bakery-3/
LOCATION:Jonica’s Bakery\, 1708 Gunter Ave\, Suite D\, Guntersville\, AL\, 35976\, United States
END:VEVENT
BEGIN:VEVENT
DTSTART;TZID=UTC:20231202T100000
DTEND;TZID=UTC:20231202T200000
DTSTAMP:20260424T031432
CREATED:20231019T215154Z
LAST-MODIFIED:20231116T173335Z
UID:18828-1701511200-1701547200@www.lakeguntersville.org
SUMMARY:Night Before Christmas\, by Lake Guntersville Merchants Association
DESCRIPTION:The Lake Guntersville Merchants Association invites you and your friends and loved ones to a magical holiday event on Saturday\, December 2. \nThis event will include free activities for the kids and for the kid at heart\, including snow at Errol Allan Park!\n4 Horse and Carriage Rides through downtown: Pickup 1 at City Hall; Pickup 2 at MC Courthouse\nPenguin bowling \nVendor Market from 10am – 8pm. Vendors will be on Taylor Street. \nChildren’s activities run 4:00 pm – 8:00 pm. \nLIVE ENTERTAINMENT AT ERROL ALLAN PARK:\nGuntersville Elementary School choir sings at 4pm\nShining Stars sings at 4:30pm\nGuntersville High School choir begins around 5pm \n  \nLIST OF MERCHANT ACTIVITIES: \nBakers on Main – Cookie Decorating\nVenture Out Supply Co – S’mores bar\nBubba’s II – Christmas sticker fun & adult beverages\nGenerations – Balloon Art and refreshments\nBlossom Boutique – Mistletoe & Margaritas\nThe Monkey’s Uncle at the Lake – Mulled cider and Christmas stickers for the kids\nMountain Valley Arts Council – Photo Booth\nEyes on Guntersville – Ornament Decorating\nFant’s – Santa & Mrs. Clause live\nHandshake Barbershop – Carnival games\nSouthern Elite Realty – Cookies\, hot chocolate\, and apple cider\nTrue South Boutique – 25% off Regular and Clearance items\nGuntersville First Methodist Church – Living nativity with animals and kids activities\nThe Red Elephant Marketplace – Coffee\, peanut brittle samples\, Christmas slap bracelets for the kids\nTotal Dental Care – free hot chocolate at Errol Allan Park\nMoody Brews – story time with Buddy the Elf\nGilbreath House – Historical costumes and snacks
URL:https://www.lakeguntersville.org/event/night-before-christmas-by-lake-guntersville-merchants-association-2/
LOCATION:Downtown Guntersville
ORGANIZER;CN="Lake Guntersville Merchants Association":MAILTO:lisa@bakersonmain.com
END:VEVENT
BEGIN:VEVENT
DTSTART;TZID=UTC:20231202T120000
DTEND;TZID=UTC:20231202T190000
DTSTAMP:20260424T031432
CREATED:20230906T165244Z
LAST-MODIFIED:20230906T165244Z
UID:28932-1701518400-1701543600@www.lakeguntersville.org
SUMMARY:Pose with Santa\, at Home Re-Decor at City Harbor
DESCRIPTION:Make plans to get your photo with the most Dapper Dude In Town!!! This event will be hosted at Home Re-Decor in City Harbor with Fox & Hound Photography on Saturday\, December 2nd from 12pm to 7pm. It will be first come first serve. And only $25 for one digital image that will be emailed with printing rights. Last year was a smashing success with folks driving as far as Oak Mountain in Birmingham AL. \n \n 
URL:https://www.lakeguntersville.org/event/pose-with-santa-at-home-re-decor-at-city-harbor-2/
LOCATION:Home Re-Decor\, 2467 Paddle Wheel Drive\, Guntersville\, AL\, 35976\, United States
END:VEVENT
BEGIN:VEVENT
DTSTART;TZID=UTC:20231202T160000
DTEND;TZID=UTC:20231202T190000
DTSTAMP:20260424T031432
CREATED:20231122T142951Z
LAST-MODIFIED:20231122T143136Z
UID:19183-1701532800-1701543600@www.lakeguntersville.org
SUMMARY:Miracle in the Manger\, at Guntersville First Methodist Church
DESCRIPTION:Celebrating Christmas in Downtown Guntersville is so special!\nBring your family to visit the Miracle in the Manger! We’ll have a living nativity and live animals this Saturday\, December 2\, 4-7 PM at Guntersville First Methodist Church\, 539 Gunter Avenue.
URL:https://www.lakeguntersville.org/event/miracle-in-the-manger-at-guntersville-first-methodist-church/
LOCATION:Guntersville First Methodist Church\, 539 Gunter Avenue\, Guntersville\, AL\, 35976\, United States
END:VEVENT
BEGIN:VEVENT
DTSTART;TZID=UTC:20231202T170000
DTEND;TZID=UTC:20231202T203000
DTSTAMP:20260424T031433
CREATED:20231101T140107Z
LAST-MODIFIED:20231101T140208Z
UID:18935-1701536400-1701549000@www.lakeguntersville.org
SUMMARY:Auction for a Mission\, by Amazon Hope Thrift Store
DESCRIPTION:Mark your calendars  2nd Annual Auction for a Mission\, by Amazon Hope Thrift Store\, is back!! \n\n\nEveryone is invited!\n\n\n\nWhen: DECEMBER 2\, 2023\n\n\n 5:00 Silent Auction\n 6:00 FREE Dinner + LIVE entertainment\n 7:00 Live Auction\n\n\nWhere: Boaz Parks & Rec Center\n400 Elizabeth St.\nBoaz\, AL
URL:https://www.lakeguntersville.org/event/auction-for-a-mission-by-amazon-hope-thrift-store/
LOCATION:AL
END:VEVENT
BEGIN:VEVENT
DTSTART;TZID=UTC:20231202T200000
DTEND;TZID=UTC:20231202T230000
DTSTAMP:20260424T031433
CREATED:20231130T171513Z
LAST-MODIFIED:20231130T171513Z
UID:19224-1701547200-1701558000@www.lakeguntersville.org
SUMMARY:Jingle Mingle\, at Downtown 412
DESCRIPTION:Head to Downtown 412 this Saturday to kick off the holidays!\n\n\nBring your friends and enjoy the Holy Snap The Photo Camper\, take your photo strip home with you and we will hang a copy on our tree!\nWe will be having holiday drink specials\n& KARAOKE
URL:https://www.lakeguntersville.org/event/jingle-mingle-at-downtown-412/
LOCATION:AL
END:VEVENT
END:VCALENDAR