BEGIN:VCALENDAR
VERSION:2.0
PRODID:-//Lake Guntersville Chamber - ECPv6.15.17//NONSGML v1.0//EN
CALSCALE:GREGORIAN
METHOD:PUBLISH
X-ORIGINAL-URL:https://www.lakeguntersville.org
X-WR-CALDESC:Events for Lake Guntersville Chamber
REFRESH-INTERVAL;VALUE=DURATION:PT1H
X-Robots-Tag:noindex
X-PUBLISHED-TTL:PT1H
BEGIN:VTIMEZONE
TZID:UTC
BEGIN:STANDARD
TZOFFSETFROM:+0000
TZOFFSETTO:+0000
TZNAME:UTC
DTSTART:20210101T000000
END:STANDARD
END:VTIMEZONE
BEGIN:VEVENT
DTSTART;TZID=UTC:20220912T180000
DTEND;TZID=UTC:20221010T200000
DTSTAMP:20260421T094652
CREATED:20220822T155511Z
LAST-MODIFIED:20220822T155511Z
UID:24942-1663005600-1665432000@www.lakeguntersville.org
SUMMARY:8 - Week Beginner Sign Language Course\, by Guntersville Ladies Civitan Club
DESCRIPTION:The Guntersville Lady Civitans are hosting a free 8-week beginner course for American Sign Language. Courses are open to ages 16 and up and will be held Monday nights at 6:00 P.M. starting September 12 and ending October 31 at the Guntersville Public Library Auditorium. Space is limited to 20 attendees.\nThe $5 ticket charge will hold your spot and be returned to you in cash (minus the $1.94 processing fee) upon check-in at the first session. Purchase your ticket here:  www.eventbrite.com/e/american-sign-language-8-week-beginner-course-tickets-403492726607\nPLEASE NOTE: By registering you are committing to 8 courses throughout 2 months. Please only register if you are able to attend the majority of sessions.
URL:https://www.lakeguntersville.org/event/8-week-beginner-sign-language-course-by-guntersville-ladies-civitan-club/
LOCATION:Guntersville Public Library\, 1240 O'Brig Avenue\, Guntersville\, AL\, 35976\, United States
END:VEVENT
BEGIN:VEVENT
DTSTART;TZID=UTC:20220922T100000
DTEND;TZID=UTC:20221031T173000
DTSTAMP:20260421T094652
CREATED:20220919T143718Z
LAST-MODIFIED:20220919T143718Z
UID:25262-1663840800-1667237400@www.lakeguntersville.org
SUMMARY:4th Annual Pumpkin Patch\, by Guntersville Ladies Civitan Club
DESCRIPTION:Guntersville Ladies Civitan Club is excited to announce the 4th Annual Pumpkin Patch\, running September 22 – October 31. \nPick your favorite pumpkin(s) while supporting a great cause. At the corner of Gunter Avenue and Loveless Street (next to the Rock House Eatery) and open 10am – dusk.
URL:https://www.lakeguntersville.org/event/4th-annual-pumpkin-patch-by-guntersville-ladies-civitan-club/
LOCATION:AL
END:VEVENT
BEGIN:VEVENT
DTSTART;VALUE=DATE:20220927
DTEND;VALUE=DATE:20221030
DTSTAMP:20260421T094652
CREATED:20220927T205021Z
LAST-MODIFIED:20220927T205021Z
UID:25453-1664236800-1667087999@www.lakeguntersville.org
SUMMARY:Halloween Coloring Contest at Guntersville Chevrolet
DESCRIPTION:Join our Second Annual Halloween Coloring Contest for a chance to win $100 awarded by Guntersville Chevrolet!! We will pick 3 winners – \none from each grade level: Grade level K-2\, Grade level 3-4\, Grade level 5-6. Each winner will receive $100! Entries will be on display at the dealership. \nHere are the contest steps: \n1) To enter\, print this file: Coloring Contest Guntersville Chevrolet 2022  and color the sheet for your grade level. We are also happy to email you a copy or you may pick one up in store at our reception desk. \nBe sure to neatly print your name and contact information (email and/or phone) on the backside. \n2) Drop your entry by the dealership and we’ll give you an awesome Halloween goodie bag just for participating. We are located at 11982 US Hwy 431 in Guntersville next to Applebee’s \n3) Full name and contact information must be on the back of the entry to be eligible. *Teachers feel free to include your name and contact info if you prefer to be the desired point of contact. \nThe contest begins October 1\, 2022 and ends on October 29\, 2022 at the close of business\, 6:00pm cst.  A panel of judges will decide the winners on October 31st and a winner will be announced via the Guntersville Chevrolet Facebook page. We will also contact the winner via their contact information. \nQuestions? Call Guntersville Chevrolet and ask for Beth Patterson\, our Marketing & Operations Manager\,  at (256) 582-5603 (M-F\, 8am-5pm) or you may email her. \nClick the flyer for coloring sheets and further details
URL:https://www.lakeguntersville.org/event/halloween-coloring-contest-at-guntersville-chevrolet/
LOCATION:Guntersville Chevrolet\, 11982 US Hwy 431\, Guntersville\, AL\, 35976\, United States
END:VEVENT
BEGIN:VEVENT
DTSTART;VALUE=DATE:20220930
DTEND;VALUE=DATE:20221010
DTSTAMP:20260421T094652
CREATED:20220902T203516Z
LAST-MODIFIED:20220902T203516Z
UID:25125-1664496000-1665359999@www.lakeguntersville.org
SUMMARY:To Kill A Mockingbird at Whole Backstage Theatre
DESCRIPTION:Click Flyer Below to purchase tickets or for more details \n \nPERFORMANCE  DATES \nSeptember 30\, October 1\, 6-8  @ 7:00pm \nOctober 2 & 9 @ 2:00pm \nThe Whole Backstage Theatre \n1120 Rayburn Ave. \nGuntersville\, Al  35976 \n256-582-7469 \n 
URL:https://www.lakeguntersville.org/event/to-kill-a-mockingbird-at-whole-backstage-theatre/
LOCATION:The Whole Backstage Theatre\, 1120 Rayburn Avenue\, Guntersville\, AL\, 35976\, United States
END:VEVENT
BEGIN:VEVENT
DTSTART;VALUE=DATE:20221004
DTEND;VALUE=DATE:20230110
DTSTAMP:20260421T094652
CREATED:20220928T154226Z
LAST-MODIFIED:20220928T154226Z
UID:25460-1664841600-1673308799@www.lakeguntersville.org
SUMMARY:Robert Rivers Contemporary Art Exhibit at Guntersville Museum
DESCRIPTION:Recently awarded the 2021 Florida Prize in Contemporary Art for his The Promised Land series\, Robert Rivers is a noted artist and fine art professor at the University of Central Florida. \n​Since his earliest childhood growing up in Guntersville\, Rivers has always drawn pictures. A graduate of Auburn and the University of Georgia in Athens\, Robert’s work has been exhibited worldwide. \nThe Promised Land is Rivers’ response to his nephew’s death in Afghanistan. Repeating iconic images drawn from his experiences\, from the mythology of many cultures\, and from historical depictions\, these paintings are both a tribute to Thomas. \nOn view will be 19 images curated from the series. \n  \nClick flyer for more information
URL:https://www.lakeguntersville.org/event/robert-rivers-contemporary-art-exhibit-at-guntersville-museum/
LOCATION:Guntersville Museum\, 1215 Rayburn Avenue\, Guntersville\, AL\, 35976
END:VEVENT
BEGIN:VEVENT
DTSTART;TZID=UTC:20221004T100000
DTEND;TZID=UTC:20221028T170000
DTSTAMP:20260421T094652
CREATED:20220919T144113Z
LAST-MODIFIED:20220919T144113Z
UID:25264-1664877600-1666976400@www.lakeguntersville.org
SUMMARY:Celebrating Cultural Heritages Exhibit\, at Mountain Valley Arts Council
DESCRIPTION:Mountain Valley Arts Council invites you to check out the new “Celebrating Cultural Heritages” Exhibit\, running October 4 – 28 at the MVAC gallery\, 440 Gunter Avenue (across from the courthouse). This exhibit focuses on the variety of cultures that make up Marshall County. Open Tuesday – Friday 10am – 5pm and Saturday 10am – 2pm. Visit mvacarts.org/art-exhibits for details. \n \nThis exhibit and reception are sponsored by grants from the Alabama State Council on the Arts\, City of Guntersville\, Citizens Bank & Trust\, PNC Bank\, Rodney’s Flowers\, and generous local businesses and MVAC members. \nOctober – Art from Other Cultures or “Not From Around Here” exhibit\nThis exhibit will focus on the various cultures that make up Marshall County communities – Asian\, Hispanic\, Native American\, and more.  In the South\, a common introductory question is “Where are your people from?” Excuse the incorrect grammar! Or upon hearing a unique accent\, “You’re not from around here\, are you?” Whether you came to the US last week or on the Mayflower\, we welcome you to Marshall County Alabama! \nAlmost all of MVAC’s exhibits focus on local artists of all ages\, but this exhibit focuses on art from other cultures whether they are family heirlooms from “the ole country”\, artistic mementos bought on travels around the world\, or art created following Native American techniques are included.
URL:https://www.lakeguntersville.org/event/celebrating-cultural-heritages-exhibit-at-mountain-valley-arts-council/
LOCATION:Mountain Valley Arts Council Gallery\, 440 Gunter Avenue\, Guntersville\, AL\, 35976\, United States
END:VEVENT
END:VCALENDAR